BEGIN:VCALENDAR
CALSCALE:GREGORIAN
VERSION:2.0
PRODID:-//Elixir ICalendar//Elixir ICalendar//EN
BEGIN:VEVENT
CATEGORIES:membership,open
DESCRIPTION:This is a Mobilizon event\n\n
DTEND:20260417T043000Z
DTSTAMP:20260424T115309Z
DTSTART:20260417T041500Z
ORGANIZER:FLOunder
STATUS:CONFIRMED
SUMMARY:Attempting to gain second member
UID:82ee2a79-f0ea-4a3f-9ac8-a50bcf6a1524
URL:https://events.iridescent.nz/events/82ee2a79-f0ea-4a3f-9ac8-a50bcf6a1524
END:VEVENT
END:VCALENDAR
